BEGIN:VCALENDAR
VERSION:2.0
PRODID:-//mbs.church//eCatholic//EN
X-WR-TIMEZONE:LocalTZ
BEGIN:VTIMEZONE
TZID:LocalTZ
X-LIC-LOCATION:LocalTZ
BEGIN:DAYLIGHT
TZOFFSETFROM:-0600
TZOFFSETTO:-0500
TZNAME:LocalTZ
DTSTART:19700308T020000
RRULE:FREQ=YEARLY;BYMONTH=3;BYDAY=2SU
END:DAYLIGHT
BEGIN:STANDARD
TZOFFSETFROM:-0500
TZOFFSETTO:-0600
TZNAME:LocalTZ
DTSTART:19701101T020000
RRULE:FREQ=YEARLY;BYMONTH=11;BYDAY=1SU
END:STANDARD
END:VTIMEZONE
BEGIN:VEVENT
UID:3071015@mbs.church
DTSTAMP:20260422T051953Z
DTSTART:20260423T180000
DTEND:20260423T193000
SUMMARY:A Plan to Protect (Renewal Session)
END:VEVENT
BEGIN:VEVENT
UID:3071016@mbs.church
DTSTAMP:20260422T051953Z
DTSTART:20260507T180000
DTEND:20260507T210000
SUMMARY:Protecting God's Children (Initial Session)
END:VEVENT
BEGIN:VEVENT
UID:3071018@mbs.church
DTSTAMP:20260422T051953Z
DTSTART:20260521T180000
DTEND:20260521T193000
SUMMARY:A Plan to Protect (Renewal Session)
END:VEVENT
END:VCALENDAR
